BEGIN:VCALENDAR
VERSION:2.0
PRODID:-//wp-events-plugin.com//7.2.2.1//EN
BEGIN:VEVENT
UID:48@literaturhauskassel.de
DTSTART;TZID=Europe/Berlin:20240120T190000
DTEND;TZID=Europe/Berlin:20240120T210000
DTSTAMP:20240109T105423Z
URL:https://literaturhauskassel.de/events/this-is-the-sound-of-freedom-hom
 mage-an-martin-luther-king-in-spirituals-und-freier-improvisation-2/
SUMMARY:THIS IS THE SOUND OF FREEDOM II.Hommage an Martin Luther King in Sp
 irituals und Freier Improvisation
DESCRIPTION:\nHilliard Greene - KontrabassUrsel Schlicht - Flügel\nSonicEx
 change in Kooperation mit dem Literaturhaus Kassel\nZum Geburtstag von Mar
 tin Luther King (geb. 15.1.1929) spielen der amerikanische Kontrabassist H
 illiard Greene und die Pianistin Ursel Schlicht an zwei Abenden eine Auswa
 hl aus Greenes Programm „Milestone Negro Spirituals: When Folksongs Brin
 g Freedom“. In Wort und Musik wird die Bedeutung und Schönheit dieses e
 inzigartigen amerikanischen Liedguts lebendig. Die Folksongs sind eng mit 
 dem Netzwerk der Underground Railroad des 19. Jahrhunderts verknüpft: dur
 ch Metaphern in Text und Melodie wurden versklavten Menschen geheime Codes
  zu Wegen und Safe Houses in die freien Nordstaaten und nach Kanada gewies
 en. Musikalisch wird der Bogen weit gespannt und bewegt sich zwischen trad
 itionellen Songs\, arrangiert von Hilliard Greene\, bis hin zu freier Impr
 ovisation in Solo und Duo. Ausgewählte Texte von King sowie auf die Leinw
 and projizierte und von Hilliard Greene in ihrer Bedeutung erläuterte Spi
 ritual-Texte umrahmen das Programm.\nIm Palais Bellevue setzt das Duo an z
 wei Abenden ein Zeichen für Freiheit und Toleranz im Kontext des Jazz als
  widerständiger und gleichermaßen individueller und kollektiver Ausdruck
 sform. Beide loten das dynamische Spektrum von sensiblem Pianissimo bis zu
 m kraftvollen Powerplay aus.\nHilliard Greene ist bekannt für seine Werke
  für Solo-Kontrabass sowie als musikalischer Leiter des Jazzsängers Jimm
 y Scott\; er arbeitete mit so unterschiedlichen Jazzgrößen wie Cecil Tay
 lor\, Rashied Ali\, Kenny Barron\, Joanne Brackeen oder auch Jon Hendricks
  zusammen.\nMit Ursel Schlicht spielte er in Kassel in ihrem SonicExchange
  Quintett seit dem documenta-Sommer 2017. Sie traten zuletzt in New York i
 m Oktober 2023 auf. Ursel Schlicht ist stilistisch vielseitig unterwegs vo
 n Jazz bis neue Musik\, freier Improvisation und interkulturellen Begegnun
 gen\, aktuell auch mit geflüchteten Musikern.\n \n
ATTACH;FMTTYPE=image/jpeg:https://literaturhauskassel.de/wp-content/upload
 s/2023/12/Schlicht_Greene.jpg
LOCATION:Palais Bellevue\, Schöne Aussicht 2\, Kassel\, 34117\, Deutschlan
 d
X-APPLE-STRUCTURED-LOCATION;VALUE=URI;X-ADDRESS=Schöne Aussicht 2\, Kassel
 \, 34117\, Deutschland;X-APPLE-RADIUS=100;X-TITLE=Palais Bellevue:geo:0,0
END:VEVENT
BEGIN:VTIMEZONE
TZID:Europe/Berlin
X-LIC-LOCATION:Europe/Berlin
BEGIN:STANDARD
DTSTART:20231029T020000
TZOFFSETFROM:+0200
TZOFFSETTO:+0100
TZNAME:CET
END:STANDARD
END:VTIMEZONE
END:VCALENDAR