BEGIN:VCALENDAR
VERSION:2.0
PRODID:-//wp-events-plugin.com//7.2.2.1//EN
BEGIN:VEVENT
UID:55@literaturhauskassel.de
DTSTART;TZID=Europe/Berlin:20240320T193000
DTEND;TZID=Europe/Berlin:20240320T213000
DTSTAMP:20240126T081751Z
URL:https://literaturhauskassel.de/events/spaetlese-offene-lesebuehne/
SUMMARY:SPÄTLESE - Offene Lesebühne
DESCRIPTION:\n\n\n\n\nWer gerne lesen möchte\, melde sich bitte vorher unt
 er info@literaturhauskassel.de bei uns an.\n\n\n\nUnsere beliebte Lesebüh
 ne findet weiterhin im Palais Bellevue statt. Wir freuen uns auf einen tol
 len Abend mit spannenden Texten und Musik.  Natürlich gibt es wieder musi
 kalische Begleitung. Freut euch auf Pearl Vik\, die wir eigentlich schon f
 ür Januar angekündigt hatten. Leider verhinderte plötzlicher Eisregen i
 hren Auftritt. Aber jetzt...Die aus Kassel stammende Singer-Songwriterin P
 earl Vik (kurz für Pearl Viktoria) veröffentlichte im November 2022 ihr 
 Debut EP „Paralleluniversum“. Mit wenig Aufwand spielt sie detailliert
  geschriebene Popballaden und erinnert in aufflackernden Momenten an Songw
 riter_innen der Siebzigerjahre wie Baez\, King und Mitchel ohne dabei ihre
  eigene Zeit\, ihre eigene Geschichte und ihre eigene Stimme zu verlieren.
 \n\n\n\n\n\n\n\n\n\n\n\n\n\n\n\nFAQFrage: “Mein Text ist vielleicht noch
  nicht gut genug?!”Antwort: “Doch\, das ist er bestimmt!”\n\n\n\nREG
 ELNEs gibt nur eine Regel – ihr habt maximal 10 Minuten Zeit und wir mü
 ssen Euch danach leider von der Bühne holen\, damit auch alle drankommen 
 können.\n\n\n\nTIPPSBringt Eure Freunde mit\, da liest es sich leichter 
 – wir sehen immer gerne neue Gesichter.\n
ATTACH;FMTTYPE=image/jpeg:https://literaturhauskassel.de/wp-content/upload
 s/2015/09/final-e1535444669152.jpg
LOCATION:Palais Bellevue\, Schöne Aussicht 2\, Kassel\, 34117\, Deutschlan
 d
X-APPLE-STRUCTURED-LOCATION;VALUE=URI;X-ADDRESS=Schöne Aussicht 2\, Kassel
 \, 34117\, Deutschland;X-APPLE-RADIUS=100;X-TITLE=Palais Bellevue:geo:0,0
END:VEVENT
BEGIN:VTIMEZONE
TZID:Europe/Berlin
X-LIC-LOCATION:Europe/Berlin
BEGIN:STANDARD
DTSTART:20231029T020000
TZOFFSETFROM:+0200
TZOFFSETTO:+0100
TZNAME:CET
END:STANDARD
END:VTIMEZONE
END:VCALENDAR