BEGIN:VCALENDAR
VERSION:2.0
PRODID:-//wp-events-plugin.com//7.2.2.1//EN
BEGIN:VEVENT
UID:49@literaturhauskassel.de
DTSTART;TZID=Europe/Berlin:20240117T193000
DTEND;TZID=Europe/Berlin:20240117T213000
DTSTAMP:20240112T094742Z
URL:https://literaturhauskassel.de/events/spaetlese-offene-lesebuehne-mit-
 frau-pauli/
SUMMARY:SPÄTLESE - Offene Lesebühne
DESCRIPTION:\n\n\n\n\nWer gerne lesen möchte\, melde sich bitte vorher unt
 er info@literaturhauskassel.de bei uns an.\n\n\n\nNeues Jahr neues Glück!
  Unsere beliebte Lesebühne findet weiterhin im Winter im Palais Bellevue 
 statt. Wir freuen uns auf einen tollen Abend mit spannenden Texten und Mus
 ik.  Natürlich gibt es wieder musikalische Begleitung. Freut euch auf Pea
 rl Vik. Die aus Kassel stammende Singer-Songwriterin Pearl Vik (kurz für 
 Pearl Viktoria) veröffentlichte im November 2022 ihr Debut EP „Parallel
 universum“. Mit wenig Aufwand spielt sie detailliert geschriebene Popbal
 laden und erinnert in aufflackernden Momenten an Songwriter_innen der Sieb
 zigerjahre wie Baez\, King und Mitchel ohne dabei ihre eigene Zeit\, ihre 
 eigene Geschichte und ihre eigene Stimme zu verlieren.\n\n\n\n\n\n\n\n\n\n
 \n\n\n\n\n\nFAQFrage: “Mein Text ist vielleicht noch nicht gut genug?!
 ”Antwort: “Doch\, das ist er bestimmt!”\n\n\n\nREGELNEs gibt nur ein
 e Regel – ihr habt maximal 10 Minuten Zeit und wir müssen Euch danach l
 eider von der Bühne holen\, damit auch alle drankommen können.\n\n\n\nTI
 PPSBringt Eure Freunde mit\, da liest es sich leichter – wir sehen immer
  gerne neue Gesichter.\n
ATTACH;FMTTYPE=image/jpeg:https://literaturhauskassel.de/wp-content/upload
 s/2015/09/final-e1535444669152.jpg
LOCATION:Palais Bellevue\, Schöne Aussicht 2\, Kassel\, 34117\, Deutschlan
 d
X-APPLE-STRUCTURED-LOCATION;VALUE=URI;X-ADDRESS=Schöne Aussicht 2\, Kassel
 \, 34117\, Deutschland;X-APPLE-RADIUS=100;X-TITLE=Palais Bellevue:geo:0,0
END:VEVENT
BEGIN:VTIMEZONE
TZID:Europe/Berlin
X-LIC-LOCATION:Europe/Berlin
BEGIN:STANDARD
DTSTART:20231029T020000
TZOFFSETFROM:+0200
TZOFFSETTO:+0100
TZNAME:CET
END:STANDARD
END:VTIMEZONE
END:VCALENDAR