BEGIN:VCALENDAR
VERSION:2.0
PRODID:-//wp-events-plugin.com//7.2.2.1//EN
BEGIN:VEVENT
UID:125@literaturhauskassel.de
DTSTART;TZID=Europe/Berlin:20241120T193000
DTEND;TZID=Europe/Berlin:20241120T213000
DTSTAMP:20241023T184103Z
URL:https://literaturhauskassel.de/events/spaetlese-offene-lesebuehne-9/
SUMMARY:SPÄTLESE - Offene Lesebühne
DESCRIPTION:\n\n\n\n\n\n\nWer gerne lesen möchte\, melde sich bitte vorher
  unter info@literaturhauskassel.de bei uns an.\n\n\n\nUnsere beliebte Lese
 bühne findet seit Oktober wieder im Salon des Palais Bellevue statt. Wir 
 freuen uns auf einen tollen Abend mit spannenden Texten und Musik. Natürl
 ich gibt es wieder musikalische Begleitung. Dieses Mal mit Kristin Polityc
 ki. Sie sagt von sich: "Seit einigen Jahren spiele ich Gitarre und singe. 
 Altbekanntes interpretiere ich gerne neu auf meine ganz eigene Weise. Mit 
 meiner in Gesang ausgebildeten Stimme drücke ich mich gerne aus und spiel
 e immer mit neuen Facetten in meinen eigenen Stücken und Covern. So verar
 beite ich viele Themen\, die mich bewegen und trete mit meinen Zuhöhrer*i
 nnen in engen Kontakt. Es ist ein bisschen wie eine gemeinsame Reise durch
  Themen und Gefühle\, die wir irgendwie alle kennen und doch jedes Mal ne
 u und anders."\n\n\n\n. \n\n\n\n\n\n\n\n\n\n\n\n\n\n\n\nFAQFrage: “Mein 
 Text ist vielleicht noch nicht gut genug?!”Antwort: “Doch\, das ist er
  bestimmt!”\n\n\n\nREGELNEs gibt nur eine Regel – ihr habt maximal 10 
 Minuten Zeit und wir müssen Euch danach leider von der Bühne holen\, dam
 it auch alle drankommen können.\n\n\n\nTIPPSBringt Eure Freunde mit\, da 
 liest es sich leichter – wir sehen immer gerne neue Gesichter.\n
ATTACH;FMTTYPE=image/jpeg:https://literaturhauskassel.de/wp-content/upload
 s/2015/09/final-e1535444669152.jpg
LOCATION:Palais Bellevue\, Schöne Aussicht 2\, Kassel\, 34117\, Deutschlan
 d
X-APPLE-STRUCTURED-LOCATION;VALUE=URI;X-ADDRESS=Schöne Aussicht 2\, Kassel
 \, 34117\, Deutschland;X-APPLE-RADIUS=100;X-TITLE=Palais Bellevue:geo:0,0
END:VEVENT
BEGIN:VTIMEZONE
TZID:Europe/Berlin
X-LIC-LOCATION:Europe/Berlin
BEGIN:STANDARD
DTSTART:20241027T020000
TZOFFSETFROM:+0200
TZOFFSETTO:+0100
TZNAME:CET
END:STANDARD
END:VTIMEZONE
END:VCALENDAR