BEGIN:VCALENDAR
VERSION:2.0
PRODID:-//wp-events-plugin.com//7.2.2.1//EN
BEGIN:VEVENT
UID:247@literaturhauskassel.de
DTSTART:20260520T173000Z
DTEND:20260520T193000Z
DTSTAMP:20260424T084647Z
URL:https://literaturhauskassel.de/events/spaetlese-offene-lesebuehne-21/
SUMMARY:SPÄTLESE - OFFENE LESEBÜHNE
DESCRIPTION:\nWer gerne lesen möchte\, melde sich bitte vorher unter info
 @literaturhauskassel.de bei uns an. Wir freuen uns auf einen tollen Abend
  mit spannenden Texten und Musik. Natürlich gibt es wieder musikalische B
 egleitung. Wer wird es dieses Mal sein? Lasst euch – wie immer – über
 raschen.\n\n\n\nFAQFrage: “Mein Text ist vielleicht noch nicht gut genug
 ?!”Antwort: “Doch\, das ist er bestimmt!”\n\n\n\nREGELNEs gibt nur e
 ine Regel – ihr habt maximal 10 Minuten Zeit und wir müssen Euch danach
  leider von der Bühne holen\, damit auch alle drankommen können.\n\n\n\n
 TIPPSBringt Eure Freunde mit\, da liest es sich leichter – wir sehen imm
 er gerne neue Gesichter.\n
ATTACH;FMTTYPE=image/jpeg:https://literaturhauskassel.de/wp-content/upload
 s/2015/09/final-e1535444669152.jpg
LOCATION:Palais Bellevue\, Schöne Aussicht 2\, Kassel\, 34117\, Deutschlan
 d
X-APPLE-STRUCTURED-LOCATION;VALUE=URI;X-ADDRESS=Schöne Aussicht 2\, Kassel
 \, 34117\, Deutschland;X-APPLE-RADIUS=100;X-TITLE=Palais Bellevue:geo:0,0
END:VEVENT
END:VCALENDAR