BEGIN:VCALENDAR
VERSION:2.0
PRODID:-//wp-events-plugin.com//7.2.2.1//EN
BEGIN:VEVENT
UID:56@literaturhauskassel.de
DTSTART;TZID=Europe/Berlin:20240221T193000
DTEND;TZID=Europe/Berlin:20240221T213000
DTSTAMP:20240206T115921Z
URL:https://literaturhauskassel.de/events/spaetlese-offene-lesebuehne-2/
SUMMARY:SPÄTLESE - Offene Lesebühne
DESCRIPTION:\n\n\n\n\nWer gerne lesen möchte\, melde sich bitte vorher unt
 er info@literaturhauskassel.de bei uns an.\n\n\n\n\nEs geht weiter: Unsere
  beliebte Lesebühne findet weiterhin im Winter im Palais Bellevue statt. 
 Wir freuen uns auf einen tollen Abend mit spannenden Texten und Musik.  Na
 türlich gibt es wieder musikalische Begleitung. Dieses Mal ist Wiebke dab
 ei. Sie beschreibt sich so: "Es gibt sehr viele schöne Dinge\, über die 
 man Songs schreiben könnte\, genauso gibt es aber auch viele Dinge\, übe
 r die man Songs schreiben muss\, weil sie einfach total wichtig oder nervi
 g sind. Weil ich aber gerne ein breites Publikum ansprechen möchte\, habe
  ich\, mal alleine\, mal mit Begleitung\, alles zusammengepackt. Herausgek
 ommen ist eine Mischung aus Quatsch und Politik."Da dürfen wir doch gespa
 nnt sein!&nbsp\;\n\n\n\n\n\n\n\n\n\n\n\n\n\n\n\n\n\n\n\nFAQFrage: “Mein 
 Text ist vielleicht noch nicht gut genug?!”Antwort: “Doch\, das ist er
  bestimmt!”\n\n\n\n\nREGELNEs gibt nur eine Regel – ihr habt maximal 1
 0 Minuten Zeit und wir müssen Euch danach leider von der Bühne holen\, d
 amit auch alle drankommen können.\n\n\n\nTIPPSBringt Eure Freunde mit\, d
 a liest es sich leichter – wir sehen immer gerne neue Gesichter.\n
ATTACH;FMTTYPE=image/jpeg:https://literaturhauskassel.de/wp-content/upload
 s/2015/09/final-e1535444669152.jpg
LOCATION:Palais Bellevue\, Schöne Aussicht 2\, Kassel\, 34117\, Deutschlan
 d
X-APPLE-STRUCTURED-LOCATION;VALUE=URI;X-ADDRESS=Schöne Aussicht 2\, Kassel
 \, 34117\, Deutschland;X-APPLE-RADIUS=100;X-TITLE=Palais Bellevue:geo:0,0
END:VEVENT
BEGIN:VTIMEZONE
TZID:Europe/Berlin
X-LIC-LOCATION:Europe/Berlin
BEGIN:STANDARD
DTSTART:20231029T020000
TZOFFSETFROM:+0200
TZOFFSETTO:+0100
TZNAME:CET
END:STANDARD
END:VTIMEZONE
END:VCALENDAR