BEGIN:VCALENDAR
VERSION:2.0
PRODID:-//wp-events-plugin.com//7.2.2.1//EN
BEGIN:VEVENT
UID:246@literaturhauskassel.de
DTSTART:20260528T170000Z
DTEND:20260531T193000Z
DTSTAMP:20260424T084830Z
URL:https://literaturhauskassel.de/events/literatura-2026/
SUMMARY:LITERATURA 2026 (28. bis 31. Mai)
DESCRIPTION:\nSeit dem Überfall der Hamas auf Israel sind antisemitische H
 etze und Vorurteile sowie antisemitisch grundierte Positionen (nicht nur) 
 in Deutschland wieder salonfähig geworden.\n\n\n\nNicht zuletzt vor diese
 m verstörenden Hintergrund findet vom 9.5. bis 19.7.2026 in der Caricatur
 a-Galerie in Kassel die Ausstellung „Haben Juden nichts zu lachen? – C
 artoons zu jüdischem Leben in fordernden Zeiten“ statt. Begleitend dazu
  veranstalten Caricatura\, Literaturhaus Kassel und Stiftung Brückner-Kü
 hner und das Sarah Nussbaum Zentrum Kassel in Kooperation vier literarisch
 e Veranstaltungen unter dem Titel LITERATURA. Die LITERATURA findet seit 2
 024 statt und flankiert seitdem als Lesereihe eine Ausstellung der Caricat
 ura im Frühjahr.\n\n\n\nGemeinsames Ziel von Ausstellung und LITERATURA 2
 026 ist\, dem neuen und alten Antisemitismus die Stirn zu bieten. Denn geg
 en den Hass hilft Lachen\, und sei es auch manchmal ein bitteres. Es gilt\
 , dem grassierenden Irrsinn satirisch und scharfzüngig entgegentreten und
  zu Diskussionen\, zum Lachen und zum Nachdenken anzuregen.\n\n\n\n28. Mai
 \, 19.00 Uhr: Auftakt: Lesung und Gespräch mit Sonali Beher (Ort: Literat
 urhaus Kassel - Palais Bellevue). \n\n\n\n29. Mai\, 19.00 Uhr:  Lesung vo
 n Alexander Estis: „Am Anfang war Schmonzes – Jüdische Satiren“ (Or
 t: Caricatura). \n\n\n\n30. Mai 19.00 Uhr: Lesung „Sind Antisemitisten a
 nwesend?“ mit Lea Streisand\, Michael Bittner und Heiko Werning. Gemeins
 am haben sie den gleichnamigen Sammelband herausgegeben (Ort: Sara Nussbau
 m Zentrum)\n\n\n\n31. Mai\, 19.Uhr: Shlomit Tripp: „Politisch koscher!? 
 Nix für Kinder!“ – Handpuppentheater (Literaturhaus Kassel - Palais B
 ellevue). \n\n\n\nDie LITERATURA wird gefördert von: Hessischer Literatur
 rat\, Stadt Kassel\, Schweizer Kulturstiftung Pro Helvetia.Kooperationspar
 tner: Literaturhaus Kassel\, Caricatura\, Sara Nussbaum Zentrum\, Stiftung
  Brückner-Kühner\n\n\n\n\n
ATTACH;FMTTYPE=image/jpeg:https://literaturhauskassel.de/wp-content/upload
 s/2026/03/Literatura_quadrat.jpg
END:VEVENT
END:VCALENDAR