BEGIN:VCALENDAR
VERSION:2.0
PRODID:-//wp-events-plugin.com//7.2.2.1//EN
BEGIN:VEVENT
UID:34@literaturhauskassel.de
DTSTART;TZID=Europe/Berlin:20231204T193000
DTEND;TZID=Europe/Berlin:20231204T213000
DTSTAMP:20231115T093731Z
URL:https://literaturhauskassel.de/events/lesung-der-textwerkstatt/
SUMMARY:LESUNG DER TEXTWERKSTATT
DESCRIPTION:\nAuch in diesem Jahr präsentieren Mitglieder der Textwerkstat
 t wieder ihre Arbeiten. Lassen Sie sich überraschen. \nEs wird wieder sk
 urril\, poetisch\, kriminell\, todernst. Die Autorinnen und Autoren der Te
 xtwerkstatt im Literaturhaus präsentieren ihre Texte aus der Anthologie 
 „Textprobe 2“\, frisch im Jenior-Verlag erschienen.\nEs lesen:\n\nCorn
 elia Liermann aus "Die Rialtos – Die Jagd nach dem Schatten"\nConnie Str
 ack: "Frau M. bringt was mit und Frau M. sucht einen Sessel"\nAchim Höh: 
 aus "Der Lehrling des Magiers"\nChrista Müller: "Die andere Seite der Str
 aße"\nAlexander Krock: aus "Der rollende Stein"\nThomas Herrmann: "Gedich
 te"\nStefan Becker: "Auf zwei Rädern und Treffen sich zwei"\nSabine Wilms
 : "Geschichten und Gedichte"\n\nModeration: Maria Knissel\, Schriftsteller
 in und Leiterin der Textwerkstatt\nAm Akkordeon: Welf Kerner\n \n
ATTACH;FMTTYPE=image/jpeg:https://literaturhauskassel.de/wp-content/upload
 s/2019/03/Textwerkstatt_Autoren-e1595531575972.jpg
LOCATION:Palais Bellevue\, Schöne Aussicht 2\, Kassel\, 34117\, Deutschlan
 d
X-APPLE-STRUCTURED-LOCATION;VALUE=URI;X-ADDRESS=Schöne Aussicht 2\, Kassel
 \, 34117\, Deutschland;X-APPLE-RADIUS=100;X-TITLE=Palais Bellevue:geo:0,0
END:VEVENT
BEGIN:VTIMEZONE
TZID:Europe/Berlin
X-LIC-LOCATION:Europe/Berlin
BEGIN:STANDARD
DTSTART:20231029T020000
TZOFFSETFROM:+0200
TZOFFSETTO:+0100
TZNAME:CET
END:STANDARD
END:VTIMEZONE
END:VCALENDAR