BEGIN:VCALENDAR
VERSION:2.0
PRODID:-//wp-events-plugin.com//7.2.2.1//EN
BEGIN:VEVENT
UID:44@literaturhauskassel.de
DTSTART;TZID=Europe/Berlin:20231215T000000
DTEND;TZID=Europe/Berlin:20231215T234500
DTSTAMP:20231203T191534Z
URL:https://literaturhauskassel.de/events/langer-atem-romanwerkstatt-von-l
 isa-marie-dickreiter-und-maria-knissel-anmeldung-bis-15-12/
SUMMARY:LANGER ATEM - Romanwerkstatt von Lisa-Marie Dickreiter und Maria Kn
 issel. Anmeldung bis 15.12. / Kickoff-Werkstatt 27.und 28.1.2024
DESCRIPTION:\nKickoff-Werkstatt\, Sa\, 27. Januar 10 bis 18 Uhr und So\, 28
 . Januar\, 9 bis 16 Uhr im Literaturhaus Kassel (Palais Bellevue\, Salon).
  Und zehn Werkstatt-Treffen als Online- oder Hybridveranstaltung\, jeweils
  am letzten Montag im Monat\nDie Textwerkstatt im Literaturhaus Kassel bie
 tet zusammen mit dem Literaturhaus ab 2024 eine einjährige Romanwerkstatt
  an: LANGER ATEM: DIE ARBEIT AM EIGENEN ROMAN.\nDie Romanwerkstatt besteht
  aus einer zweitägigen Kickoff-Werkstatt im Januar und zehn über das Jah
 r verteilten Werkstatt-Treffen im Online- oder Hybridformat. Sie richtet s
 ich in erster Linie an die Teilnehmerinnen und Teilnehmer des Workshops vo
 m September 2021 „Auf der Suche nach dem roten Faden: das Dreiaktmodell
 “\, ist aber offen für alle\, die an einem Roman arbeiten und mindesten
 s ein Jahr „dranbleiben“ wollen.\nIn der KICK-OFF-WERKSTATT werden wir
  unseren literarischen Werkzeugkoffer auffüllen. Sitzt die Figurenperspek
 tive? Wurde die passende Erzählinstanz gewählt? Unterstützt das Tempus 
 den Inhalt der Geschichte? Apropos Geschichte: Wie sieht es mit den Figure
 n und dem Plot aus? Sitzt die Dramaturgie? Fragen über Fragen\, denen wir
  uns konkret anhand der Romanprojekte der Teilnehmerinnen und Teilnehmer w
 idmen werden. So gehen Theorie und Praxis Hand in Hand.\nIn den monatliche
 n zweieinhalbstündigen WERKSTATT-TREFFEN nehmen wir uns jeweils Projekte 
 von zwei Teilnehmenden vor\, geben Feedback und gehen auf konkrete Fragen 
 und Schwierigkeiten ein\, die sich während des Schreibprozesses ergeben.
  \nDie Dozentinnen:\nLisa-Marie Dickreiter hat an der Filmakademie Ludwig
 sburg Drehbuch studiert. Sie ist Schriftstellerin\, Drehbuchautorin und Dr
 amaturgin. 2012 wurde sie von der FAZ in die Liste „20 unter 40“ (die 
 besten 20 deutschsprachigen Autoren unter 40 Jahren) aufgenommen. Für ihr
  literarisches Schaffen erhielt sie zahlreiche Preise und Stipendien. Mehr
 ere ihrer Kinderbücher wurden verfilmt\, 2023 wurde sie für „Karlchen 
 hilft allen\, ob sie wollen oder nicht“ mit dem Deutschen Kinderbuchprei
 s ausgezeichnet. Sie gibt seit vielen Jahren Dramaturgie-Schulungen für L
 ektorInnen großer Publikumsverlage.\nMaria Knissel ist Romanautorin und L
 eiterin der Textwerkstatt im Literaturhaus Kassel. Für ihre Romane erhiel
 t sie mehrfach Förderungen des Hessischen Ministeriums für Wissenschaft 
 und Kunst sowie ein INITIAL-Stipendium der Akademie der Künste. Sie ist V
 orstandsmitglied im Literaturhaus Kassel.\n
ATTACH;FMTTYPE=image/jpeg:https://literaturhauskassel.de/wp-content/upload
 s/2023/11/Knissel-Dickreiter.jpg
END:VEVENT
BEGIN:VTIMEZONE
TZID:Europe/Berlin
X-LIC-LOCATION:Europe/Berlin
BEGIN:STANDARD
DTSTART:20231029T020000
TZOFFSETFROM:+0200
TZOFFSETTO:+0100
TZNAME:CET
END:STANDARD
END:VTIMEZONE
END:VCALENDAR