BEGIN:VCALENDAR
VERSION:2.0
PRODID:-//wp-events-plugin.com//7.2.2.1//EN
BEGIN:VEVENT
UID:68@literaturhauskassel.de
DTSTART;TZID=Europe/Berlin:20240320T173000
DTEND;TZID=Europe/Berlin:20240320T193000
DTSTAMP:20240313T125159Z
URL:https://literaturhauskassel.de/events/interieur-malereien-von-johann-c
 onrad-bromeis-1820/
SUMMARY:Interieur-Malereien von Johann Conrad Bromeis 1820
DESCRIPTION:\nIm neuesten Geschmack: Johann Conrad Bromeis (1788-1855) und 
 seine Innenraumentwürfe.\nOberbaudirektor Bromeis legt Kurfürst Wilhelm 
 II. um 1820 zahlreiche Innenraumentwürfe vor. Die Schlösser Kassels prä
 sentieren die Residenzstadt im Style Empire. Wir stellen Interieur Malerei
 en vor\, im Verbindungsbau von Schloss und Palais Bellevue\, am historisch
 en Ort\, das war nämlich die „Remise“.\nDer Vortrag von Frau Professo
 r Sabine Thümmler wird umrahmt von Musik aus der Zeit und einer Bildstrec
 ke\, die die "Remise" als Teil des Gebäudekomplexes von Schloss Bellevue 
 und Palais Bellevue vorstellt.\nEine Veranstaltung des Geschichtsvereins K
 assel in Kooperation mit dem Literaturhaus Kassel.\n
ATTACH;FMTTYPE=image/jpeg:https://literaturhauskassel.de/wp-content/upload
 s/2024/03/Palais-Bellevue.jpg
LOCATION:Palais Bellevue\, Schöne Aussicht 2\, Kassel\, 34117\, Deutschlan
 d
X-APPLE-STRUCTURED-LOCATION;VALUE=URI;X-ADDRESS=Schöne Aussicht 2\, Kassel
 \, 34117\, Deutschland;X-APPLE-RADIUS=100;X-TITLE=Palais Bellevue:geo:0,0
END:VEVENT
BEGIN:VTIMEZONE
TZID:Europe/Berlin
X-LIC-LOCATION:Europe/Berlin
BEGIN:STANDARD
DTSTART:20231029T020000
TZOFFSETFROM:+0200
TZOFFSETTO:+0100
TZNAME:CET
END:STANDARD
END:VTIMEZONE
END:VCALENDAR