BEGIN:VCALENDAR
VERSION:2.0
PRODID:-//wp-events-plugin.com//7.2.2.1//EN
BEGIN:VEVENT
UID:54@literaturhauskassel.de
DTSTART;TZID=Europe/Berlin:20240226T190000
DTEND;TZID=Europe/Berlin:20240226T210000
DTSTAMP:20240221T171226Z
URL:https://literaturhauskassel.de/events/die-wuerde-des-menschen-ist-unan
 tastbar-gegen-antisemitismus-hass-und-gewalt-solidaritaetsveranstaltung-mi
 t-musik-und-literatur/
SUMMARY:AUSVERKAUFT!DIE WÜRDE DES MENSCHEN IST UNANTASTBAR.  Gegen Antisem
 itismus\, Hass und Gewalt. Solidaritätsveranstaltung mit Musik und Litera
 tur
DESCRIPTION:\nEine Kooperationsveranstaltung von Bernd P.R. Winter und dem 
 Literaturhaus Kassel.\nKarten können per Mail an info@literaturhauskassel
 .de vorbestellt werden. Am Veranstaltungstag sollten diese bis eine halbe 
 Stunde vor Beginn abgeholt werden.\nKasseler Künstler und Künstlerinnen 
 tragen Prosa und Lyrik von Dichterinnen und Dichtern vor\, die zu ihren Le
 bzeiten Verfolgung\, Ausgrenzung\, Hass und Gewalt erleben und erleiden mu
 ssten. So Heinrich Heine\, der 1831 nach Frankreich geht und so der deutsc
 hen Zensur und dem deutschen Antisemitismus entflieht. Auch Mascha Kaléko
  erhielt 1935 von den Nationalsozialisten Berufsverbot\, und noch vor den 
 November-Pogromen emigriert die Familie von der Spree an den Hudson River.
  Nelly Sachs\, die 1966 den Nobelpreis für Literatur erhielt\, musste Deu
 tschland verlassen. Als sie von der systematischen Ausrottung der Juden\, 
 den Lagern und den Gaskammern erfuhr\, konnte sie an nichts anderes mehr d
 enken\, über nichts anderes mehr dichten. Ihr ganzes Werk ist nur ein ein
 ziger erstickter Schrei\, ein Hilferuf\, ein Gebet\, das den Himmel anruft
  und das der Himmel nicht erhört. Menschverachtende Verfolgung\, Ausgrenz
 ung und Hass erfuhren u. v. auch Dichter wie Kurt Tucholsky\, Max Hermann-
 Neisse\, Stefan Zweig oder Else Lasker-Schüler\, aus deren Werken passend
 e Texte vorgetragen werden.\nNicht nur das gesprochene Wort wird zu hören
  sein\, auch Musik und Gesang bereichern das Programm. \nUnsere Demokrati
 e ist stark. Werte wie Freiheit und Menschenwürde sind im Grundgesetz ver
 ankert\, sind aber keine Selbstverständlichkeit und müssen immer wieder 
 neu von uns Bürgern und Bürgerinnen durch Taten unter Beweis gestellt we
 rden. Bundesweit gingen in den letzten Wochen immer mehr Menschen auf die 
 Straßen\, in Kassel waren es 15.000 Menschen\, die gegen Rechtextremismus
  und die AfD demonstrierten.\nWichtige Wahlen stehen 2024 an: Kommunalwahl
 en\, Landtagswahlen\, die Europawahl. Die Bürger und Bürgerinnen in Deut
 schland und in Europa tragen die Verantwortung und entscheiden mit ihrer S
 timme\, dass die Freiheit siegt und faschistisches Machtbestreben abgestra
 ft wird.\nTexte von: Heinrich Heine\, Mascha Kaléko\, Kurt Tucholsky\, Ne
 lly Sachs\, Max Hermann-Neisse\, Stefan Zweig\, Else Lasker-Schüler und B
 ertolt Brecht.\nModeration: Barbara Christowzik\nSprecher und Sprecherinne
 n: Aljoscha Langel\, Valeska Weber\, Katharina Brehl\, Andrea C. Ortolano\
 , Julia Dernbach\, Astrid Weigel\, Gerrit Bräutigam und Rainer Henze\nGes
 ang: Susanne Vogt\, Sabine Roppel\nMusik: Susanne Vogt\, Peter Zingrebe\, 
 Gunther\, Fuhr\, Julia Reingardt\, Rolf Dressler\, Katharina Schmidt-Hurti
 enne\n \n
ATTACH;FMTTYPE=image/jpeg:https://literaturhauskassel.de/wp-content/upload
 s/2024/01/Bernd-P.-R.-Winter-Bild-1zu1-scaled.jpg
LOCATION:Palais Bellevue\, Schöne Aussicht 2\, Kassel\, 34117\, Deutschlan
 d
X-APPLE-STRUCTURED-LOCATION;VALUE=URI;X-ADDRESS=Schöne Aussicht 2\, Kassel
 \, 34117\, Deutschland;X-APPLE-RADIUS=100;X-TITLE=Palais Bellevue:geo:0,0
END:VEVENT
BEGIN:VTIMEZONE
TZID:Europe/Berlin
X-LIC-LOCATION:Europe/Berlin
BEGIN:STANDARD
DTSTART:20231029T020000
TZOFFSETFROM:+0200
TZOFFSETTO:+0100
TZNAME:CET
END:STANDARD
END:VTIMEZONE
END:VCALENDAR