BEGIN:VCALENDAR
VERSION:2.0
PRODID:-//wp-events-plugin.com//7.2.2.1//EN
BEGIN:VEVENT
UID:67@literaturhauskassel.de
DTSTART;TZID=Europe/Berlin:20240404T193000
DTEND;TZID=Europe/Berlin:20240404T213000
DTSTAMP:20240402T214437Z
URL:https://literaturhauskassel.de/events/die-herrlichkeit-des-lebens-mich
 ael-kumpfmueller-liest-aus-seinem-roman-und-spricht-ueber-die-verfilmung/
SUMMARY:AUSVERKAUFT!DIE HERRLICHKEIT DES LEBENSMichael Kumpfmüller liest a
 us seinem Roman und spricht über die Verfilmung
DESCRIPTION:\nVeranstaltung in Kooperation mit dem Filmladen Kassel.\nÜber
 lebensgroß ist der Mythos Franz Kafka\, dessen Nachruhm als Schriftstelle
 r scheinbar mit einem weithin unglücklichen Leben erkauft wurde. Doch nun
  wirft Michael Kumpfmüller ein helles\, fast heiteres Licht auf den berü
 hmten Dichter und zeichnet liebevoll und diskret einen Menschen\, der in s
 einem letzten Jahr die große Liebe findet und sein Leben in die Hand nimm
 t\, bevor es dafür zu spät ist.\nIm Sommer 1923 lernt der tuberkulosekra
 nke Franz Kafka\, als Dichter nur Eingeweihten bekannt\, in einem Ostseeba
 d die 25-jährige Köchin Dora Diamant kennen. Und innerhalb weniger Woche
 n tut er\, was er nicht für möglich gehalten hat: Er entscheidet sich f
 ür das Zusammenleben mit einer Frau\, teilt Tisch und Bett mit Dora. In B
 erlin wagt er mit ihr das gemeinsame Leben\, mitten in der Hyperinflation 
 der Weimarer Republik. Den täglich kletternden Preisen\, den wechselnden 
 Untermietquartieren\, den argwöhnischen Eltern zum Trotz: Bis zu seinem T
 od im Juni 1924 werden sich Franz Kafka und Dora Diamant\, von wenigen Tag
 en abgesehen\, nicht mehr trennen.\nAus dieser wahren Geschichte macht Mic
 hael Kumpfmüller einen feinsinnigen\, behutsamen und kenntnisreichen Lieb
 esroman. Kafkas Tagebücher\, seine Briefe und letzten Texte kennt er gena
 u und webt sie zart in die Erzählung ein. Aber ebenso sehr widmet er sich
  Doras Sicht\, dem Blick der verliebten jungen Frau auf ihren rätselhafte
 n\, sterbenden Mann. Und so gelingt Kumpfmüller eine tief anrührende Par
 abel über das Leben und die Liebe\, das Schreiben und den Tod.\n»Michael
  Kumpfmüller pokert hoch\, wenn er die Liebsgeschichte zwischen Franz Kaf
 ka und Dora Diamant nacherzählt. Doch er gewinnt\, und die Lesenden ohneh
 in.« Kulturtipp\, Schweiz\nDer Bestseller »Die Herrlichkeit des Lebens«
  von Michael Kumpfmüller wurde von Georg Maas und Judith Kaufmann verfilm
 t und ist ab 14. März im Gloria-Kino in Kassel zu sehen . In den Hauptrol
 len spielen Henriette Confurius (»Tannbach – Schicksal eines Dorfes«)\
 , Sabin Tambrea (»Babylon Berlin«)\, Manuel Rubey (»Braunschlag«) und 
 Daniela Donja Golpashin (»Ich und die Anderen«).\nMichael Kumpfmüller\,
  geboren 1961 in München\, lebt als freier Autor in Berlin. Im Jahr 2000 
 erschien mit dem gefeierten Roman »Hampels Fluchten« seine erste literar
 ische Veröffentlichung\, 2003 sein zweiter Roman »Durst« und 2008 »Nac
 hricht an alle«\, für den er vor dem Erscheinen mit dem Döblin-Preis au
 sgezeichnet wurde. »Die Herrlichkeit des Lebens« wurde 2011 zum Bestsell
 er und von der literarischen Kritik hochgelobt. Mittlerweile ist der Roman
  in 27 Sprachen übersetzt und 2024 unter der Regie von Georg Maas und Jud
 ith Kaufmann verfilmt worden. Zuletzt erschienen die Romane »Tage mit Ora
 « (2018)\, »Ach\, Virginia« (2020) und »Mischa und der Meister« (2022
 ).\n
ATTACH;FMTTYPE=image/jpeg:https://literaturhauskassel.de/wp-content/upload
 s/2024/03/Kumpfmueller-1zu1.jpeg
LOCATION:Palais Bellevue\, Schöne Aussicht 2\, Kassel\, 34117\, Deutschlan
 d
X-APPLE-STRUCTURED-LOCATION;VALUE=URI;X-ADDRESS=Schöne Aussicht 2\, Kassel
 \, 34117\, Deutschland;X-APPLE-RADIUS=100;X-TITLE=Palais Bellevue:geo:0,0
END:VEVENT
BEGIN:VTIMEZONE
TZID:Europe/Berlin
X-LIC-LOCATION:Europe/Berlin
BEGIN:DAYLIGHT
DTSTART:20240331T030000
TZOFFSETFROM:+0100
TZOFFSETTO:+0200
TZNAME:CEST
END:DAYLIGHT
END:VTIMEZONE
END:VCALENDAR