BEGIN:VCALENDAR
VERSION:2.0
PRODID:-//wp-events-plugin.com//7.2.2.1//EN
BEGIN:VEVENT
UID:46@literaturhauskassel.de
DTSTART;TZID=Europe/Berlin:20240130T193000
DTEND;TZID=Europe/Berlin:20240130T210000
DTSTAMP:20231220T112248Z
URL:https://literaturhauskassel.de/events/die-entfernung-der-sterne-ingrid
 -mylo-liest/
SUMMARY:DIE ENTFERNUNG DER STERNE  Ingrid Mylo liest
DESCRIPTION:\nIngrid Mylos Schreiben ist der fortwährende Versuch\, in Sch
 rift zu fassen\, was immer schwerer zu fassen ist:das Substantielle\, das 
 Wesentliche. Ihre Poesie legt den Blick frei auf das\, was hinter den Ding
 en liegt. Denken und Empfinden fallen bei dieser Dichterin in eins – und
  dank ihrer sinnlichen\, bildreichen Sprache „erlebt der Leser\, was sie
  schreibt\, als körperliche Erfahrung“\, wie es in einer Besprechung he
 ißt.Als 2021 Ingrid Mylos Lyrikband „Überall\, wo wir Schatten warfen
 “ erschien\, war das für viele eine Entdeckung. Dabei veröffentlicht s
 ie seit ihrem Prosadebüt „Kaffeeblüten“ (1994\, davor vier Kinderbü
 cher) kontinuierlich Gedichte\, Kurzgeschichten\, Feuilletons und Essays. 
 "Die Enfernung der Sterne" enthält neben neuen Texten auch Bleibendes\, V
 erstreutes und Überarbeitetes aus mehr als 30 Jahren. Das denkbar beste G
 egengift für eine Welt\, die so grell ist\, dass wir nicht mal mehr die S
 terne sehen.\nIngrid Mylo\, 1955 in Frankfurtam Main geboren\, ist Autorin
 \,Übersetzerin (u. a. Paolo Conte und Pier Paolo Pasolini) und Publizisti
 n. Seit mehr als 30 Jahren schreibt sie Essays\, Gedichte\, Kolumnen\, Hö
 rspiele und Drehbücher. Ebenfalls in der edition AZUR bei Voland &amp\; Q
 uist erschien "Überall\, wo wir Schatten warfen" (2021). Ingrid Mylo lebt
  in Kassel.\n
ATTACH;FMTTYPE=image/jpeg:https://literaturhauskassel.de/wp-content/upload
 s/2023/11/Mylow_Ingrid_cprivat-scaled-e1700672162880.jpg
LOCATION:Palais Bellevue\, Schöne Aussicht 2\, Kassel\, 34117\, Deutschlan
 d
X-APPLE-STRUCTURED-LOCATION;VALUE=URI;X-ADDRESS=Schöne Aussicht 2\, Kassel
 \, 34117\, Deutschland;X-APPLE-RADIUS=100;X-TITLE=Palais Bellevue:geo:0,0
END:VEVENT
BEGIN:VTIMEZONE
TZID:Europe/Berlin
X-LIC-LOCATION:Europe/Berlin
BEGIN:STANDARD
DTSTART:20231029T020000
TZOFFSETFROM:+0200
TZOFFSETTO:+0100
TZNAME:CET
END:STANDARD
END:VTIMEZONE
END:VCALENDAR