BEGIN:VCALENDAR
VERSION:2.0
PRODID:-//wp-events-plugin.com//7.2.2.1//EN
BEGIN:VEVENT
UID:51@literaturhauskassel.de
DTSTART;TZID=Europe/Berlin:20240321T200000
DTEND;TZID=Europe/Berlin:20240321T220000
DTSTAMP:20240116T081310Z
URL:https://literaturhauskassel.de/events/der-krimisalonneues-aus-mord-und
 -totschlag-3/
SUMMARY:DER KRIMISALONNeues aus Mord und Totschlag
DESCRIPTION:\nIn Kooperation mit dem Literaturhaus Kassel präsentiert der 
 Krimisalon neue Perlen der Spannungsliteratur.\nIn der Remise geben Gerrit
  Bräutigam und Julia Dernbach Einblicke in das facettenreiche Universum d
 er Kriminalliteratur. Vom politischen Thriller über literarische Spannung
 sgeschichten bis zum witzigen Regionalkrimi präsentiert das Duo unterhalt
 sam die ganze Bandbreite des Kriminalromans in szenischen Lesungen. Beglei
 tet werden die beiden von Peter Zingrebe\, der virtuos und samtweich an ve
 rschiedenen Saxofonen und mit der Querflöte einen Sound erzeugt\, der die
  Stimmen der beiden erweitert und pointiert.\nGerrit Bräutigam\, Liebhabe
 r schöner Sprache und Buchhändler mit Leib und Seele\, ist seit vielen J
 ahren mit unterschiedlichsten Programmen auf den Lesebühnen unterwegs. Em
 pathisch und eloquent interpretiert er unkonventionell Texte und malt mit 
 seiner Stimme Bilder in den Köpfen.\nJulia Dernbach ist Schauspielerin un
 d Hörbuchsprecherin. Sie erzeugt mit Ihrem großen Repertoire die perfekt
 e Illusion und katapultiert ihre Hörerinnen und Hörer aus dem Alltag mit
 ten hinein in fiktive Welten.\nPeter Zingrebe erzeugt gefühlvoll Stimmung
 en mit seinen Instrumenten. Das Urgestein der Kasseler Musikszene hat bere
 its bei diversen literarischen Veranstaltungen brilliert.\nDie Buchhandlun
 g Buchland ist mit einem Büchertisch vor Ort. Alle vorgestellten Kriminal
 romane können nach der Lesung erworben werden.\n \n
ATTACH;FMTTYPE=image/jpeg:https://literaturhauskassel.de/wp-content/upload
 s/2023/09/Krimiabend_13-2000-scaled-e1693918895180.jpg
LOCATION:Palais Bellevue\, Schöne Aussicht 2\, Kassel\, 34117\, Deutschlan
 d
X-APPLE-STRUCTURED-LOCATION;VALUE=URI;X-ADDRESS=Schöne Aussicht 2\, Kassel
 \, 34117\, Deutschland;X-APPLE-RADIUS=100;X-TITLE=Palais Bellevue:geo:0,0
END:VEVENT
BEGIN:VTIMEZONE
TZID:Europe/Berlin
X-LIC-LOCATION:Europe/Berlin
BEGIN:STANDARD
DTSTART:20231029T020000
TZOFFSETFROM:+0200
TZOFFSETTO:+0100
TZNAME:CET
END:STANDARD
END:VTIMEZONE
END:VCALENDAR