BEGIN:VCALENDAR
VERSION:2.0
PRODID:-//wp-events-plugin.com//7.2.2.1//EN
BEGIN:VEVENT
UID:33@literaturhauskassel.de
DTSTART;TZID=Europe/Berlin:20231207T200000
DTEND;TZID=Europe/Berlin:20231207T220000
DTSTAMP:20231115T175859Z
URL:https://literaturhauskassel.de/events/der-krimisalonneues-aus-mord-und
 -totschlag-2/
SUMMARY:DER KRIMISALONNeues aus Mord und Totschlag
DESCRIPTION:\nEintritt: 12 € Vvk (Buchland\, Pestalozzistr. 9\, 34119 Kas
 sel) / 14 € Ak\nIn Kooperation mit dem Literaturhaus Kassel präsentiert
  der Krimisalon neue Perlen der Spannungsliteratur. \nIn der Remise geben 
 Gerrit Bräutigam und Julia Dernbach Einblicke in das facettenreiche Unive
 rsum der Kriminalliteratur. Vom politischen Thriller über literarische Sp
 annungsgeschichten bis zum witzigen Regionalkrimi präsentiert das Duo unt
 erhaltsam die ganze Bandbreite des Kriminalromans in szenischen Lesungen. 
 Begleitet werden die beiden von Peter Zingrebe\, der virtuos und samtweich
  an verschiedenen Saxofonen und mit der Querflöte einen Sound erzeugt\, d
 er die Stimmen der beiden erweitert und pointiert.\nGerrit Bräutigam\, Li
 ebhaber schöner Sprache und Buchhändler mit Leib und Seele\, ist seit vi
 elen Jahren mit unterschiedlichsten Programmen auf den Lesebühnen unterwe
 gs. Empathisch und eloquent interpretiert er unkonventionell Texte und mal
 t mit seiner Stimme Bilder in den Köpfen.\nJulia Dernbach ist Schauspiele
 rin und Hörbuchsprecherin. Sie erzeugt mit Ihrem großen Repertoire die p
 erfekte Illusion und katapultiert ihre Hörerinnen und Hörer aus dem Allt
 ag mitten hinein in fiktive Welten.\nPeter Zingrebe erzeugt gefühlvoll St
 immungen mit seinen Instrumenten. Das Urgestein der Kasseler Musikszene ha
 t bereits bei diversen literarischen Veranstaltungen brilliert.\nDie Buchh
 andlung Buchland ist mit einem Büchertisch vor Ort. Alle vorgestellten Kr
 iminalromane können nach der Lesung erworben werden.\n \n
ATTACH;FMTTYPE=image/jpeg:https://literaturhauskassel.de/wp-content/upload
 s/2023/09/Krimiabend_13-2000-scaled-e1693918895180.jpg
LOCATION:Palais Bellevue\, Schöne Aussicht 2\, Kassel\, 34117\, Deutschlan
 d
X-APPLE-STRUCTURED-LOCATION;VALUE=URI;X-ADDRESS=Schöne Aussicht 2\, Kassel
 \, 34117\, Deutschland;X-APPLE-RADIUS=100;X-TITLE=Palais Bellevue:geo:0,0
END:VEVENT
BEGIN:VTIMEZONE
TZID:Europe/Berlin
X-LIC-LOCATION:Europe/Berlin
BEGIN:STANDARD
DTSTART:20231029T020000
TZOFFSETFROM:+0200
TZOFFSETTO:+0100
TZNAME:CET
END:STANDARD
END:VTIMEZONE
END:VCALENDAR