BEGIN:VCALENDAR
VERSION:2.0
PRODID:-//wp-events-plugin.com//7.2.2.1//EN
BEGIN:VEVENT
UID:36@literaturhauskassel.de
DTSTART;TZID=Europe/Berlin:20231201T193000
DTEND;TZID=Europe/Berlin:20231201T213000
DTSTAMP:20231127T081740Z
URL:https://literaturhauskassel.de/events/debuetantensalonmit-franziska-ga
 ensler-und-grit-krueger/
SUMMARY:DEBÜTANTENSALONMit Franziska Gänsler und Grit Krüger
DESCRIPTION:Franziska Gänsler und Grit Krüger präsentieren ihre ersten R
 omane.
ATTACH;FMTTYPE=image/jpeg:https://literaturhauskassel.de/wp-content/upload
 s/2023/09/1GritKrueger_cFelixGruenschlossGaensler-_cLinda-Rosa_800.jpg
LOCATION:Palais Bellevue\, Schöne Aussicht 2\, Kassel\, 34117\, Deutschlan
 d
X-APPLE-STRUCTURED-LOCATION;VALUE=URI;X-ADDRESS=Schöne Aussicht 2\, Kassel
 \, 34117\, Deutschland;X-APPLE-RADIUS=100;X-TITLE=Palais Bellevue:geo:0,0
END:VEVENT
BEGIN:VTIMEZONE
TZID:Europe/Berlin
X-LIC-LOCATION:Europe/Berlin
BEGIN:STANDARD
DTSTART:20231029T020000
TZOFFSETFROM:+0200
TZOFFSETTO:+0100
TZNAME:CET
END:STANDARD
END:VTIMEZONE
END:VCALENDAR