BEGIN:VCALENDAR
VERSION:2.0
PRODID:-//wp-events-plugin.com//7.2.2.1//EN
BEGIN:VEVENT
UID:124@literaturhauskassel.de
DTSTART;TZID=Europe/Berlin:20241123T193000
DTEND;TZID=Europe/Berlin:20241123T210000
DTSTAMP:20241111T160042Z
URL:https://literaturhauskassel.de/events/daniela-daub-quergelesenmusikali
 sche-abschlusslesung/
SUMMARY:DANIELA DAUB: QuerGelesen
DESCRIPTION:\nIm September und Oktober 2024 war die Autorin Daniela Daub al
 s „Land in Sicht“-Stipendiatin des Hessischen Literaturrats zu Gast in
  der ARTPraxis in Zierenberg im Landkreis Kassel. Sie ist nicht nur Lyrike
 rin\, sondern auch Bühnenkünstlerin und Jongleurin. Die Gedichte von Dan
 iela Daub sind wie Spaziergänge durch die Sprache\, bei denen sie die Bed
 eutungsmöglichkeiten der Worte abgeht. Philosophisch und poetisch geht es
  durch das Labyrinth des Fühlens und Wahrnehmens. Wir freuen uns\, die Le
 sung in Kooperation mit dem Hessischen Literaturrat in den Räumen der Bü
 cherei Kirchditmold präsentieren zu können.\nDaniela Daub\, geboren 1971
 \, lebt und arbeitet als Autorin und Künstlerin in Wiesbaden. Nach einem 
 Mathematik- und Physikstudium machte sie eine Ausbildung zur Tischlerin\, 
 ging nach Paris auf die Zirkusschule „École du Cirque Nationale Fratell
 ini“ und studierte anschließend Theaterwissenschaft\, Psychologie und P
 hilosophie in Mainz. Neben dem Schreiben von Lyrik und Kurzprosa ist Danie
 la Daub als Jongleurin und Performerin tätig\, macht Theater im öffentli
 chen Raum und interdisziplinäre Kunstprojekte. https://danieladaub.de\nHe
 ssischer Literaturrat in Kooperation mit der Bücherei Kurchditmold und de
 m Literaturhaus Kassel.\n \n
ATTACH;FMTTYPE=image/jpeg:https://literaturhauskassel.de/wp-content/upload
 s/2024/10/Daniela-Daub_Ramune-Pigagaite_No.-3.jpeg
LOCATION:Bücherei Kirchditmold e.V.\, Zentgrafenstraße 142\, Kassel\, 341
 30\, Deutschland
X-APPLE-STRUCTURED-LOCATION;VALUE=URI;X-ADDRESS=Zentgrafenstraße 142\, Kas
 sel\, 34130\, Deutschland;X-APPLE-RADIUS=100;X-TITLE=Bücherei Kirchditmol
 d e.V.:geo:0,0
END:VEVENT
BEGIN:VTIMEZONE
TZID:Europe/Berlin
X-LIC-LOCATION:Europe/Berlin
BEGIN:STANDARD
DTSTART:20241027T020000
TZOFFSETFROM:+0200
TZOFFSETTO:+0100
TZNAME:CET
END:STANDARD
END:VTIMEZONE
END:VCALENDAR