BEGIN:VCALENDAR
VERSION:2.0
PRODID:-//wp-events-plugin.com//7.2.2.1//EN
BEGIN:VEVENT
UID:50@literaturhauskassel.de
DTSTART;TZID=Europe/Berlin:20240215T193000
DTEND;TZID=Europe/Berlin:20240215T210000
DTSTAMP:20240215T133910Z
URL:https://literaturhauskassel.de/events/abschied-von-den-boomernpremiere
 nlesung-und-buchvorstellung-mit-heinz-bude/
SUMMARY:AUSVERKAUFT:ABSCHIED VON DEN BOOMERN Premierenlesung und Buchvorste
 llung mit Heinz Bude
DESCRIPTION:\nBye\, bye\, Boomer! Das Portrait einer Generation und ihrer i
 nneren Widersprüche von Heinz Bude.\nDie Boomer nehmen Abschied. Wer zwis
 chen 1955 und 1970 in der Zeit der geburtenstarken Jahrgänge zur Welt gek
 ommen ist\, hat den Ruhestand erreicht oder zählt zu den Älteren\, die n
 ach und nach ihre Posten freimachen. Die Boomer verbindet das Gefühl\, da
 ss es zu viele von ihnen gibt\, das spürten sie schon in überfüllten Kl
 assenzimmern und später auf dem Arbeitsmarkt. Daraus resultierte eine Hal
 tung der Skepsis\, und die Erfahrung von AIDS und Tschernobyl hat sie in e
 iner entscheidenden Phase ihrer Biografie gelehrt\, dass nichts gesichert 
 und gar nichts garantiert ist. Heinz Bude\, ein früher Boomer\, beschreib
 t\, wie sich mit dieser Generation auch ein Lebensgefühl verabschiedet\, 
 das unsere Gesellschaft über Jahrzehnte geprägt hat.\nHeinz Bude\, gebor
 en 1954\, studierte Soziologie\, Philosophie und Psychologie. Von 2000 bis
  2023 war er Professor für Makrosoziologie an der Universität Kassel. Bu
 de ist Gründungsdirektor des Documenta-Institus in Kassel. Er lebt in Ber
 lin. Im Carl Hanser Verlag erschien zuletzt: "Adorno für Ruinenkinder. Ei
 ne Geschichte von 1968" (2018)\, "Solidarität. Die Zukunft einer großen 
 Idee" (2019) und\, gemeinsam mit Bettina Munk und Karin Wieland\, "Aufpral
 l" (2020).\n
ATTACH;FMTTYPE=image/jpeg:https://literaturhauskassel.de/wp-content/upload
 s/2024/01/Bude_Heinz_2017_c-Dawin-Meckel_1-1.jpg
LOCATION:Palais Bellevue\, Schöne Aussicht 2\, Kassel\, 34117\, Deutschlan
 d
X-APPLE-STRUCTURED-LOCATION;VALUE=URI;X-ADDRESS=Schöne Aussicht 2\, Kassel
 \, 34117\, Deutschland;X-APPLE-RADIUS=100;X-TITLE=Palais Bellevue:geo:0,0
END:VEVENT
BEGIN:VTIMEZONE
TZID:Europe/Berlin
X-LIC-LOCATION:Europe/Berlin
BEGIN:STANDARD
DTSTART:20231029T020000
TZOFFSETFROM:+0200
TZOFFSETTO:+0100
TZNAME:CET
END:STANDARD
END:VTIMEZONE
END:VCALENDAR