BEGIN:VCALENDAR
VERSION:2.0
PRODID:-//wp-events-plugin.com//7.2.2.1//EN
BEGIN:VEVENT
UID:53@literaturhauskassel.de
DTSTART;TZID=Europe/Berlin:20240306T000000
DTEND;TZID=Europe/Berlin:20240310T000000
DTSTAMP:20240204T205840Z
URL:https://literaturhauskassel.de/events/6-festival-grafisches-erzaehlenr
 eisen-um-bilderwelten-in-fuenf-tagen/
SUMMARY:6. FESTIVAL GRAFISCHES ERZÄHLENReisen um Bilderwelten in 5 Tagen  
   Programm-Überblick Tage 1 bis 5
DESCRIPTION:\n[caption id="attachment_11346" align="alignright" width="200"
 ] Lukas Kummer[/caption]\nDas 6. Festival Grafisches Erzählen präsentier
 t von Mittwoch\, 6. März\, bis Sonntag\, 10. März 2024 aktuelle und prom
 inente Positionen des Comics und des Animationsfilms. An fünf Festivaltag
 en erwartet das Publikum Lesungen und Diskussionen rund um die Neunte Kuns
 t. Es wird musikalisch\, dichterisch\, lustig\, dramatisch\, historisch\, 
 visionär und abwechslungsreich sowieso. Erstmals findet das Festival im P
 alais Bellevue statt\, wo das Literaturhaus Kassel seit September 2023 ans
 ässig ist. \n[caption id="attachment_11348" align="alignleft" width="260"
 ] Jens Harder[/caption]\nBereits der Eröffnungsabend bietet ein besondere
 s Highlight: Zeichner Bernhard Skopnik\, Rezitator Axel Garbelman und Kont
 rabassist Sven Krug interpretieren Gedichte des Lyrikers Peter Rühmkorf (
 1929-2008). Ihr zeichnerisch-dichterisch-musikalisches Großprojekt „Rü
 hmkorfs\n[caption id="attachment_11349" align="alignright" width="330"] Ti
 na Brenneisen[/caption]\nEi“ haben sie exklusiv für das Festival entwic
 kelt und präsentieren es erstmals – auch als Buch! - zur Eröffnung am 
 6. März. Projektion\, Rezitation und Jazzimprovisation versprechen ein au
 ßergewöhnliches audio-visuelles Erlebnis. Der Kasseler Comic-Autor Lukas
  Kummer stellt seine viel gerühmte fünfbändige Adaption von Thomas-Bern
 hards Autobiographie vor\, die in diesem Jahr abgeschlossen wird. Jens Har
 der (Berlin) präsentiert seine fulminante Erd- und Weltgeschichte „Alph
 a“ und „Beta I/II“\, Tina Brenneisen (Berlin) ihre brandneue Graphic
  Novel „Oblomowa“ um die gleichnamige Protagonistin\, die ihre Tage vo
 rnehmlich im Bett verbringt. \n[caption id="attachment_11350" align="align
 right" width="200"] Birgit Weyhe[/caption]\nBirgit Weyhe (Hamburg) war sch
 on zweimal Gast des Festivals\, dieses Mal stellt sie ihre preisgekrönte 
 Graphic Novel „Rude Girl“ über die afroamerikanische Germanistik-Prof
 essorin Priscilla Layne vor. Anke Feuchtenberger (Hamburg) zeigt ihr aktue
 lles\, vor kurzem erschienenes Meisterwerk „Genossin Kuckuck“. Moki (B
 erlin) wartet mit einem Querschnitt durch ihr vielfältiges und unkonventi
 onelles Werk auf. Der Kasseler Verlag Rotopol gestaltet ein Tagesprogramm 
 mit Vorträgen\, Lesungen und Verlagspräsentation und selbstverständlich
  ist auch die Illuklasse der Kunsthochschule wieder mit dabei. Das Festiva
 l endet am 10. März mit Animationsfilmen im Rahmen einer Vormittags-Matin
 ee im Film-Shop Kassel.\nDie Comic-Galerie Kassel ist von Donnerstag bis S
 amstag mit einem reich bestückten Büchertisch vor Ort. \nWir freuen uns 
 auf fünf anregende\, diskussionsreiche und spannende Tage: Mittwoch\, 6. 
 3. - ab 19.00: Eröffnung – „Rühmkorfs Ei“ / Lukas KummerDonnerstag
 \, 7.3. - ab 19 Uhr: Illuklasse Kunsthochschule / Tina Brenneisen / Jens H
 arderFreitag\, 8.3. - 19 Uhr: Birgit Weyhe\, Anke Feuchtenberger\, mokiSam
 stag\, 9.3. - 11 bis ca. 16 Uhr: Rotopol - Comic-Lesungen für Kinder und 
 ErwachseneSonntag\, 10.3.\, 11.30 bis 14 Uhr: Trickfilm-Matinee im Film-Sh
 op\nVeranstalter: Literaturhaus Kassel e. V.Festivalorte: Palais Bellevue\
 , Schöne Aussicht 2\, 34117 Kassel (Mi-Sa) / Film-Shop\, Erzbergerstr. 12
 \, 34117 Kassel (So) Organisation: Dr. Andreas Gebhardt\, Christiane Hamac
 her.Einlass: Jeweils 1 Stunde vor Beginn.Eintritt: Frei\, Spenden erwünsc
 ht!Kontakt: 0177 – 7 34 33 39Mail: info@literaturhauskassel.de\nUnser Da
 nk gilt den Förderern: Kulturamt der Stadt Kassel\, Gerhard Fieseler Stif
 tung\n\n \n \n\n \n \n
ATTACH;FMTTYPE=image/jpeg:https://literaturhauskassel.de/wp-content/upload
 s/2024/01/1_Ru__Cover_600-rahmen-scaled.jpg
LOCATION:Palais Bellevue\, Schöne Aussicht 2\, Kassel\, 34117\, Deutschlan
 d
X-APPLE-STRUCTURED-LOCATION;VALUE=URI;X-ADDRESS=Schöne Aussicht 2\, Kassel
 \, 34117\, Deutschland;X-APPLE-RADIUS=100;X-TITLE=Palais Bellevue:geo:0,0
END:VEVENT
BEGIN:VTIMEZONE
TZID:Europe/Berlin
X-LIC-LOCATION:Europe/Berlin
BEGIN:STANDARD
DTSTART:20231029T020000
TZOFFSETFROM:+0200
TZOFFSETTO:+0100
TZNAME:CET
END:STANDARD
END:VTIMEZONE
END:VCALENDAR