BEGIN:VCALENDAR
VERSION:2.0
PRODID:-//wp-events-plugin.com//7.2.2.1//EN
BEGIN:VEVENT
UID:58@literaturhauskassel.de
DTSTART;TZID=Europe/Berlin:20240306T190000
DTEND;TZID=Europe/Berlin:20240306T220000
DTSTAMP:20240208T181425Z
URL:https://literaturhauskassel.de/events/6-festival-grafisches-erzaehlene
 roeffnungsabend/
SUMMARY:6. FESTIVAL GRAFISCHES ERZÄHLEN Tag 1: Eröffnung mit  Rühmkorfs 
 Ei und Lukas Kummer
DESCRIPTION:\n\nRÜHMKORFS EIMit Bernhard Skopnik\, Axel Garbelmann und Sve
 n Krug (19.00)\nIn Kassel haben sich einige Enthusiasten mit dem Ziel zusa
 mmengetan\, das lyrische Werk Peter Rühmkorfs zu würdigen und ihm zu neu
 er Aufmerksamkeit zu verhelfen: Der Zeichner Bernhard Skopnik der Rezitato
 r und Spoken-Word-Künstler Axel Garbelmann sowie der Kontrabassist Sven K
 rug.\nIhr Projekt heißt „Rühmkorfs Ei“. Bernhard Skopnik erschließt
  damit auf ganz eigene und besondere Weise Rühmkorfs-Lyrik zeichnend\, fr
 ei interpretierend\, reflektierend ohne sie bloß zu illustrieren\, was an
 gesichts ihrer Komplexität ohnehin müßig erscheint. Skopniks Bilder sin
 d Metaphern\, Chiffren\, reizvolle Hirngespinste zu Rühmkorfs Wortklauber
 eien. Sie sind konfrontierend\, umschmeichelnd\, ironisierend\, überdreht
 \, ganz nah dran aber auch weit vom Buchstäblichen entfernt. Im Entstehen
  ist ein gezeichnetes Leporello\, das zu einem rund 30minütigen Filmband 
 werden soll. Skopnik\, Garbelmann und Krug wollen in der Live-Performance 
 Brücken zwischen Text (Lesung)\, Bild (Filmband) und Musik (Jazz-Improvis
 ation) schlagen und so einen mehrdimensionalen Assoziationsrahmen schaffen
 \, der Neugierig macht und\, davon sind wir überzeugt\, neue Zugänge zur
  Rühmkorfs Lyrik eröffnet.\n[caption id="attachment_7512" align="alignri
 ght" width="200"] Foto: Privat[/caption]\nBernhard Skopnik (Jg. 1958) gebo
 ren in Nordhessen. Von 1980 bis 1985 studierte er Visuelle Kommunikation i
 n Kassel mit Schwerpunkt Illustration bei Hans Hillmann. Seit Mitte der 19
 80er Jahre ist er selbstständiger Illustrator. Parallel arbeitet er als f
 reier Zeichner und Bildergeschichtenerzähler\, ständig auf der Suche „
 die Macht der Zeichnung und das Geheimnis der Beziehung zwischen Wort und 
 Bild zu entschlüsseln“. Seit 2019 publiziert er Bildergeschichten im Ei
 genverlag. www.b-skopnik.de\n[caption id="attachment_11449" align="alignle
 ft" width="400"] Foto: Privat[/caption]\nSven Krug (Jg. 1980) verbrachte s
 eine Kindheit und Jugend in einer nordhessischen Kleinstadt.  Von 2006 bi
 s 2010 studierte er an der Hochschule für Musik Franz Liszt in Weimar ein
  Jazzstudium im Hauptfach Jazz-Kontrabass. Seit 2017 lebt und arbeitet er 
 in Kassel\, wo er neben seiner Tätigkeit als Instrumentallehrer als Kontr
 abassist in diversen Bands spielt und mit eigenen Formationen und Projekte
 n\, für die er eigene Stücke komponiert\, in Erscheinung tritt. Bisher s
 ind zwei Alben unter eigenem Namen erschienen: Sven Krug Quartett: Dip and
  Grip (2018) und Sven Krug Sextett: Lost Innovator Suite (2022). https://w
 ww.sven-krug.de\nAxel Garbelmann (geb. 1974) mag Sprache\, Improvisation u
 nd Performance. Aus dem Improvisationstheater kommend\, hat er über die J
 ahre in vielen Genres gearbeitet: Als Impro-Solo-\, Wortkünstler\, Clown\
 , bei Poetry Slams\, als Spontanvorleser\, Tagungsbegleiter\, freier Redne
 r\, Stadtführer\, Leser und Rezitator. Er nennt das "Wortsurfen".Mit Sven
  Krug arbeitet er im Programm „Down in the Bass“ zusammen\, mit Bernha
 rd Skopnik bei der Musik-Spoken Word - Zeichnen-Performance „KBW - Klang
  Bild Wort“. www.wortsurfer.de \n\nDIE KÄLTELukas Kummer zeichnet Thom
 as Bernhards Autobiographie (21.00 Uhr)\nIm zweiten Teil des Eröffnungsab
 ends dreht es sich um einen weiteren Klassiker der deutschsprachigen Liter
 atur\, um Thomas Bernhard und seine fünfteilige Autobiographie. Lukas Kum
 mer stellt deren vierten Teil "Die Kälte" vor\, von ihm kongenial in Szen
 e gesetzt. Mit der Einweisung in die Lungenheilstätte Grafenhof beginnt 
 ein neues Kapitel in der Leidensgeschichte des jungen Thomas Bernhard. In 
 der geschlossenen Welt des Sanatoriums ist er den Ärzten\, dem Pflegepers
 onal\, den Mitpatienten und nicht zuletzt sich selbst hilflos ausgeliefert
 . Doch in der Hoffnungslosigkeit übt er die Auflehnung. Die Selbstvergewi
 sserung als Schreibender\, die Freundschaft mit einem Musiker und der Gesa
 ng sind es\, die ihm den Willen und die Kraft zum Überleben geben. Thomas
  Bernhard befreit sich zuletzt aus der Isolation der Lungenheilanstalt\, d
 ie in Lukas Kummers Bilderwelt wie der kälteste Kreis der Hölle anmutet\
 , um der zu werden\, als den wir ihn kennen: einer der größten Schriftst
 eller des 20. Jahrhunderts.\n[caption id="attachment_4349" align="alignrig
 ht" width="212"] Foto: Gebhardt[/caption]\nLukas Kummer\, geboren 1988 in 
 Innsbruck. 2007 zog er nach Kassel\, um Illustration und Comic zu studiere
 n. Seit 2009 arbeitet er als Illustrator\, Autor\, Storyboard Artist und G
 estalter. 2014 Studienabschluss bei Hendrik Dorgarthen. Seine Arbeiten wur
 den in Fanzines und Anthologien veröffentlicht\, u.a. in „Triebwerk“\
 , „Tisch 14“ und „Batterie“\, seine erste Graphic Novel „Die Ver
 werfung“ erschien 2015\, „Die Gotteskrieger“ 2017. Seine Thomas Bern
 hard-Graphic Novels „Die Ursache“ (2018\, Comic-Bestenliste)\, „Der 
 Keller“ (2019)\, „Der Atem“ (2021) und "Die Kälte (2023) finden beg
 eisterten Anklang.www.lukaskummer.com\n\nUnser Dank gilt den Förderern: 
 Kulturamt der Stadt Kassel\, Gerhard Fieseler Stiftung\n\n \n \n\n \n
ATTACH;FMTTYPE=image/jpeg:https://literaturhauskassel.de/wp-content/upload
 s/2024/02/Kummer-Cover600.jpg
LOCATION:Palais Bellevue\, Schöne Aussicht 2\, Kassel\, 34117\, Deutschlan
 d
X-APPLE-STRUCTURED-LOCATION;VALUE=URI;X-ADDRESS=Schöne Aussicht 2\, Kassel
 \, 34117\, Deutschland;X-APPLE-RADIUS=100;X-TITLE=Palais Bellevue:geo:0,0
END:VEVENT
BEGIN:VTIMEZONE
TZID:Europe/Berlin
X-LIC-LOCATION:Europe/Berlin
BEGIN:STANDARD
DTSTART:20231029T020000
TZOFFSETFROM:+0200
TZOFFSETTO:+0100
TZNAME:CET
END:STANDARD
END:VTIMEZONE
END:VCALENDAR