BEGIN:VCALENDAR
VERSION:2.0
PRODID:-//wp-events-plugin.com//7.2.2.1//EN
BEGIN:VEVENT
UID:59@literaturhauskassel.de
DTSTART;TZID=Europe/Berlin:20240307T190000
DTEND;TZID=Europe/Berlin:20240307T230000
DTSTAMP:20240229T100611Z
URL:https://literaturhauskassel.de/events/6-festival-grafisches-erzaehlen-
 der-2-abend/
SUMMARY:6. FESTIVAL GRAFISCHES ERZÄHLENTag 2: Illuklasse / Tina Brenneisen
  / Jens Harder
DESCRIPTION:\n\nKURZ UND KNAPPNeues aus der Illuklasse\nTraditionell beginn
 t der zweite Abend des Festivals mit der Klasse Comic und Illustration der
  Kunsthochschule Kassel. Die Studierenden zeigen aktuelle Arbeiten und Pro
 jekte. Dabei sind: Tuki Gruner\, Melanie Lüdtke\, Marlene Ochs\, Rosali F
 ee Karré\, Lis Walter\, Hyunsoo Shin\, Carolin Pysalski und Elisabeth Sai
 ler. Lassen Sie sich überraschen. www.illuklasse.de\n\nOBLOMOWATina Brenn
 eisens moderne Adaption eines Klassikers\nAusgehend vom Original\, dem "Ob
 lomow"\, einem russischen Kleinadligem im Jahr 1859\, verbringt auch die 3
 3jährige Ilonotschka Oblomowa ihre Tage am liebsten im Bett. Aber anders 
 als im Original des russischen Romanciers Ivan Gontscharow lebt Ilonotschk
 a Oblomowa im heutigen Berlin in einer WG und ihre Zeitgenossen sind derma
 ßen nervtötend in ihrem Aktionismus\, ewigem Moralisieren und Skandieren
  von politischen Parolen\, dass sie nicht einmal zu ihrer Haupttätigkeit\
 , der Oblomowarei kommt.\n[caption id="attachment_11387" align="alignright
 " width="270"] Foto: marinkelmoon[/caption]\nUnd ganz plötzlich erscheint
  die Neurotizität der Oblomowa neben dem überdreht hektischen\, aber ebe
 nso neurotischen\, weil passiven Nicht-Verhalten der anderen gar nicht meh
 r so verdammungswürdig\, sondern fast schon wie eine Lösung für Klimakr
 ise und zu viel Moderne.\nTina Brenneisen\, geb. 1977 in Dresden\, studier
 te Psychologie und Philosophie an der TU Dresden und FU Berlin. Sie lebt u
 nd arbeitet als Comiczeichnerin und Karikaturistin in Berlin\, ist Gründe
 rin der Parallelallee\, einem kleinen unabhängigen Verlag für Comics\, F
 ilmvorführerin im Kino ACUD und mag Eiscreme. \n\nVOM URKNALL BIS ZUR GE
 GENWARTDie ganze Weltgeschichte im Comic: Jens Harders "Alpha... direction
 s" und "Beta...Civilisations"\nWie bringt man 14 Milliarden Jahre Weltgesc
 hichte in ein Buch? Diese Frage hat sich der Berliner Zeichner Jens Harder
  gestellt und beantwortet: Indem man auf 350 Seiten den Beginn unseres Uni
 versums mit dem Urknall\, die Entstehung des Planeten Erde und die Evoluti
 on der Pflanzen- und Tierwelt in Bildern umsetzt. Mit Texten geht er spars
 am um\, nur an wenigen Stellen finden sich in "Alpha" kurze Passagen. Daf
 ür fädelt er auf diesen historischen Faden Darstellungen aus allerlei Sc
 höpfungsmythen und verquickt so Naturwissenschaft und menschliche Vorstel
 lungswelt. In den beiden Bänden "Beta Civilisations" beschreitet Harder d
 ie Grenze zwischen Kunst und Wissenschaft und überführt geschichtliche E
 rkenntnisse in eine faszinierende Collage von Bildern. Harder flechtet dab
 ei ebenso wissenschaftliche Abbildungen wie auch Zitate aus Kunst\, Mythol
 ogie und Religion ein. So entsteht ein Panorama der menschlichen Kulturges
 chichte\, eine gewaltige Übersicht unserer vielen unterschiedlichen Versu
 che\, uns ein Bild von der Welt zu machen.\n[caption id="attachment_11392"
  align="alignright" width="270"] Foto: anjazwei.de[/caption]\nJens Harder 
 wurde 1970 geboren. Er studierte Grafik an der Kunsthochschule Berlin-Wei
 ßensee und arbeitet als freier Grafiker und Illustrator in Berlin. 1999 g
 ründete er zusammen mit Studienkollegen die Comicgruppe Monogatari. Sein 
 erstes eigenes Buch brachte er 2003 bei dem französischen Verlag Édition
 s de l'An heraus. Das etwa 150 Seiten umfassende Album mit dem Titel "Levi
 athan" ist eine dramatisierte Geschichte um einen Pottwal. Dafür erhielt 
 Harder beim Comic-Salon Erlangen 2004 den Max-und-Moritz-Preis für die "b
 este deutschsprachige Comic-Publikation". Der Band "Alpha ...directions" k
 am 2010 bei Carlsen heraus und wurde im selben Jahr mit dem Max und Moritz
 -Preis ausgezeichnet.\nwww.hardercomics.de\n \n \n
ATTACH;FMTTYPE=image/jpeg:https://literaturhauskassel.de/wp-content/upload
 s/2024/02/Beta-Art-1zu1.jpg
LOCATION:Palais Bellevue\, Schöne Aussicht 2\, Kassel\, 34117\, Deutschlan
 d
X-APPLE-STRUCTURED-LOCATION;VALUE=URI;X-ADDRESS=Schöne Aussicht 2\, Kassel
 \, 34117\, Deutschland;X-APPLE-RADIUS=100;X-TITLE=Palais Bellevue:geo:0,0
END:VEVENT
BEGIN:VTIMEZONE
TZID:Europe/Berlin
X-LIC-LOCATION:Europe/Berlin
BEGIN:STANDARD
DTSTART:20231029T020000
TZOFFSETFROM:+0200
TZOFFSETTO:+0100
TZNAME:CET
END:STANDARD
END:VTIMEZONE
END:VCALENDAR