BEGIN:VCALENDAR
VERSION:2.0
PRODID:-//wp-events-plugin.com//7.2.2.1//EN
BEGIN:VEVENT
UID:43@literaturhauskassel.de
DTSTART;TZID=Europe/Berlin:20231211T180000
DTEND;TZID=Europe/Berlin:20231211T200000
DTSTAMP:20231115T095750Z
URL:https://literaturhauskassel.de/events/59-literarischer-salon-roehling-
 kaiser-stellen-wir-haetten-uns-alles-gesagt-von-judith-hermann-vor/
SUMMARY:59. LITERARISCHER SALON  Röhling & Kaiser stellen "Wir hätten uns
  alles gesagt" von Judith Hermann vor
DESCRIPTION:\nEine Kindheit in unkonventionellen Verhältnissen\, das getei
 lte Berlin\, Familienbande und Wahlverwandtschaften\, lange\, glückliche 
 Sommer am Meer. Judith Hermann spricht über ihr Schreiben und ihr Leben\,
  über das\, was Schreiben und Leben zusammenhält und miteinander verbind
 et. Wahrheit\, Erfindung und Geheimnis – Wo beginnt eine Geschichte und 
 wo hört sie auf? Wie verlässlich ist unsere Erinnerung\, wie nah sind un
 sere Träume an der Wirklichkeit.\nWie in ihren Romanen und Erzählungen f
 ängt Judith Hermann ein ganzes Lebensgefühl ein: Mit klarer poetischer S
 timme erzählt sie von der empfindsamen Mitte des Lebens\, von Freundschaf
 t\, Aufbruch und Freiheit.\nJudith Hermann wurde 1970 in Berlin geboren. I
 hrem Debüt "Sommerhaus\, später" (1998) wurde eine außerordentliche Res
 onanz zuteil. Es folgten "Nichts als Gespenster" (2003)\, "Alice"\, "Aller
  Liebe Anfang" (2014)\, "Lettipark" (2026). Zuletzt erschien 2023 "Wir hä
 tten uns alles gesagt". Für ihr Werk wurde Judith Hermann mit zahlreichen
  Preisen geehrt. Die Autorin lebt und schreibt in Berlin.\n
ATTACH;FMTTYPE=image/jpeg:https://literaturhauskassel.de/wp-content/upload
 s/2023/11/01-Pult_Roehling_Kaiser_2_XX-scaled-e1700041716595.jpg
LOCATION:Palais Bellevue\, Schöne Aussicht 2\, Kassel\, 34117\, Deutschlan
 d
X-APPLE-STRUCTURED-LOCATION;VALUE=URI;X-ADDRESS=Schöne Aussicht 2\, Kassel
 \, 34117\, Deutschland;X-APPLE-RADIUS=100;X-TITLE=Palais Bellevue:geo:0,0
END:VEVENT
BEGIN:VTIMEZONE
TZID:Europe/Berlin
X-LIC-LOCATION:Europe/Berlin
BEGIN:STANDARD
DTSTART:20231029T020000
TZOFFSETFROM:+0200
TZOFFSETTO:+0100
TZNAME:CET
END:STANDARD
END:VTIMEZONE
END:VCALENDAR