BEGIN:VCALENDAR
VERSION:2.0
PRODID:-//wp-events-plugin.com//7.2.2.1//EN
BEGIN:VEVENT
UID:122@literaturhauskassel.de
DTSTART;TZID=Europe/Berlin:20241117T170000
DTEND;TZID=Europe/Berlin:20241117T190000
DTSTAMP:20241112T160820Z
URL:https://literaturhauskassel.de/events/200-jahre-winterreiseneufassung-
 fuer-sprecher-und-saxophon-trio/
SUMMARY:200 JAHRE "WINTERREISE"Neufassung für Sprecher und Saxophon-Trio
DESCRIPTION:\nAnlässlich der Erstveröffentlichung der berühmten Gedichte
 sammlung „Die Winterreise“ von Wilhelm Müller im Jahr 1824 laden die 
 Goethe-Gesellschaft und das Literaturhaus Kassel zu einem besonderen musik
 alisch-literarischen Vortragsabend ein:  Die 24 Gedichte\, die erst spät
 er durch die Liedvertonungen Franz Schuberts weltberühmt wurden\, werden 
 in einer ungewöhnlichen Besetzung für Sprecher und Saxophon-Trio im Pala
 is Bellevue zu erleben sein. Der Autor der mittlerweile im Druck erschiene
 nen Neufassung\, Stefan Reitz\, hat die ursprünglichen Gedichte  Müller
 s wieder in den Mittelpunkt gestellt und verzahnt sie mit musikalischen Id
 een aus der Schubertschen Musik\, gesetzt für Sprecher und Saxophon-Trio.
  Dabei entsteht ein neuartiges Gesamtkunstwerk aus Textrezitation und Musi
 k. Es musiziert das Saxophon-Trio des Autors (Tobias Altmann - Altsaxophon
 \, Andreas Fiebig - Tenorsaxophon\, Stefan Reitz - Baritonsaxophon) gemein
 sam mit dem Sprecher Lutz Stepputtis. \n
ATTACH;FMTTYPE=image/jpeg:https://literaturhauskassel.de/wp-content/upload
 s/2024/10/Ensemble-Winterreise-Foto-II-scaled-e1729021540811.jpg
LOCATION:Palais Bellevue\, Schöne Aussicht 2\, Kassel\, 34117\, Deutschlan
 d
X-APPLE-STRUCTURED-LOCATION;VALUE=URI;X-ADDRESS=Schöne Aussicht 2\, Kassel
 \, 34117\, Deutschland;X-APPLE-RADIUS=100;X-TITLE=Palais Bellevue:geo:0,0
END:VEVENT
BEGIN:VTIMEZONE
TZID:Europe/Berlin
X-LIC-LOCATION:Europe/Berlin
BEGIN:STANDARD
DTSTART:20241027T020000
TZOFFSETFROM:+0200
TZOFFSETTO:+0100
TZNAME:CET
END:STANDARD
END:VTIMEZONE
END:VCALENDAR